Workbook

Sheet 登録ﾁｰﾑ
A1: 2024年度 旭川社会人バスケットボール大会 エンジョイリーグ申込書
A2: ※：記入必須 | I2: 下記注意事項をよく読んで記入してください。
A3: チーム名※ | E3: クラス※ | G3: エンジョイ
A4: フリガナ※ | I4: ※は必須項目ですので必ず入力してください。
A5: 代表者※ | C5: 代表メールアドレス※ | I5: クラスはご希望のクラスを「男子」「女子」「シニア」「ミックス」「シニア」「エンジョイ」から選択してください。
A6: 代表〒※ | C6: 代表住所※
A7: 代表TEL※ | C7: 代表住所（建物） | I7: 代表メールアドレスは年度内で変わることのないようお願いします。
I8: スタッフは、ヘッドコーチ1名、アシスタントコーチ2名、マネージャー1名の計4名以内でお願いします。
A9: スタッフ | B9: スタッフ氏名 | C9: フリガナ | D9: メンバーID | E9: ライセンス | I9: スタッフでコーチライセンスをお持ちの方はメンバーIDとライセンスを選択してください。
A10: ヘッドコーチ※ | I10: チーム内で審判ライセンスをお持ちのすべての方を帯同審判として記入してください。
A11: アシスタントコーチ | I11: スタッフ・審判で年度内にライセンス取得予定の方は、取得予定を選択してください。
A12: アシスタントコーチ | I12: 選手登録人数が18名以上の場合は、大会参加選手18名のみに背番号を記入して下さい。
A13: マネージャー | I13: 生年月日は西暦でYYYY/MM/DDの形式で入力してください。
I14: セルの結合などはしないでください。
A15: 帯同審判 | B15: 審判氏名 | C15: フリガナ | D15: メンバーID | E15: ライセンス | F15: 電話番号
A16: 審判員1※
A17: 審判員2※
A18: 審判員3 | I18: 前回大会の登録時から変更がある場合は、変更箇所がわかるよう下記のようにお願いします。
A19: 審判員4 | I19: 変更 | J19: 選手と帯同審判以外で、前年度から変更のある項目は赤字で入力してください。
A20: 審判員5 | I20: 新規 | J20: 選手と帯同審判を追加した場合は、青字で入力してください。
I21: 抹消 | J21: 抹消する選手と帯同審判の登録内容全てに取り消し線を表示してください。
A22: 背番号 | B22: 選手氏名 | C22: フリガナ | D22: メンバーID | E22: 生年月日 | F22: 身長(cm) | G22: TEAMJBA登録チーム
I23: 取り消し線の表示の仕方
I24: 1．取り消し線を表示したいセル上で右クリックし「セルの書式設定」を選択
I25: 2．「フォント」を選択し「文字飾り」の取り消し線をチェックし「ＯＫ」をクリックで完了
I27: 「TEAMJBA登録チーム」欄について
I28: TEAMJBAにおいて、競技者登録を「チーム旭川」以外で登録している場合に、そのチーム名を記入してください。
I29: 「チーム旭川」の場合は記入不要です。

Sheet 入力例
A1: 2022年度 旭川社会人バスケットボール連盟 チーム登録申込書
A2: ※：記入必須 | I2: 下記注意事項をよく読んで記入してください。
A3: チーム名※ | B3: 旭川○○クラブ | E3: クラス※ | G3: エンジョイ
A4: フリガナ※ | B4: アサヒカワマルマルクラブ | I4: ※は必須項目ですので必ず入力してください。
A5: 代表者※ | B5: 旭川 一郎 | C5: 代表メールアドレス※ | D5: xxxxxxx@xxxxxxx.xx.xx | I5: クラスはご希望のクラスを「男子」「女子」「シニア」「ミックス」「シニア」「エンジョイ」から選択してください。
A6: 代表〒※ | B6: 000-0000 | C6: 代表住所※ | D6: 旭川市○○町○条○丁目○○－○○
A7: 代表TEL※ | B7: 000-0000-0000 | C7: 代表住所（建物） | D7: ○○アパート ○○号室 | I7: 代表メールアドレスは年度内で変わることのないようお願いします。
I8: スタッフは、ヘッドコーチ1名、アシスタントコーチ2名、マネージャー1名の計4名以内でお願いします。
A9: スタッフ | B9: スタッフ氏名 | C9: フリガナ | D9: メンバーID | E9: ライセンス | I9: スタッフでコーチライセンスをお持ちの方はメンバーIDとライセンスを選択してください。
A10: ヘッドコーチ※ | B10: 旭川 一郎 | C10: アサヒカワ イチロウ | D10: 000000000 | E10: C | I10: チーム内で審判ライセンスをお持ちのすべての方を帯同審判として記入してください。
A11: アシスタントコーチ | B11: 旭川 二郎 | C11: アサヒカワ ジロウ | D11: 000000000 | E11: E | I11: スタッフ・審判で年度内にライセンス取得予定の方は、取得予定を選択してください。
A12: アシスタントコーチ | B12: 旭川 三郎 | C12: アサヒカワ サブロウ | D12: 000000000 | E12: 取得予定 | I12: 選手登録人数が18名以上の場合は、大会参加選手18名のみに背番号を記入して下さい。
A13: マネージャー | B13: 旭川 華子 | C13: アサヒカワ ハナコ | I13: 生年月日は西暦でYYYY/MM/DDの形式で入力してください。
I14: セルの結合などはしないでください。
A15: 帯同審判 | B15: 審判氏名 | C15: フリガナ | D15: メンバーID | E15: ライセンス | F15: 電話番号
A16: 審判員1※ | B16: 当麻 太郎 | C16: トウマ タロウ | D16: 000000000 | E16: B | F16: 000-0000-0000
A17: 審判員2※ | B17: 東川 四郎 | C17: ヒガシカワ シロウ | D17: 000000000 | E17: D | F17: 000-0000-0001
A18: 審判員3 | B18: 富良野 吾郎 | C18: フラノ ゴロウ | D18: 000000000 | E18: E | F18: 000-0000-0002 | I18: 前回大会の登録時から変更がある場合は、変更箇所がわかるよう下記のようにお願いします。
A19: 審判員4 | I19: 変更 | J19: 選手と帯同審判以外で、前年度から変更のある項目は赤字で入力してください。
A20: 審判員5 | I20: 新規 | J20: 選手と帯同審判を追加した場合は、青字で入力してください。
I21: 抹消 | J21: 抹消する選手と帯同審判の登録内容全てに取り消し線を表示してください。
A22: 背番号 | B22: 選手氏名 | C22: フリガナ | D22: メンバーID | E22: 生年月日 | F22: 身長(cm) | G22: TEAMJBA登録チーム
A23: 00 | B23: 旭川 三郎 | C23: アサヒカワ サブロウ | D23: 000000000 | E23: 29221 | F23: 180 | I23: 取り消し線の表示の仕方
A24: 1 | B24: 末広 一郎 | C24: スエヒロ イチロウ | D24: 000000000 | E24: 29222 | F24: 180 | I24: 1．取り消し線を表示したいセル上で右クリックし「セルの書式設定」を選択
A25: 2 | B25: 春光 二郎 | C25: シュンコウ ジロウ | D25: 000000000 | E25: 29223 | F25: 180 | I25: 2．「フォント」を選択し「文字飾り」の取り消し線をチェックし「ＯＫ」をクリックで完了
A26: 4 | B26: 豊岡 太郎 | C26: トヨオカ タロウ | D26: 000000000 | E26: 29224 | F26: 180
A27: 5 | B27: 東光 三郎 | C27: トウコウ サブロウ | D27: 000000000 | E27: 29225 | F27: 180 | I27: 「TEAMJBA登録チーム」欄について
A28: 9 | B28: 神楽岡 四郎 | C28: カグラオカ シロウ | D28: 000000000 | E28: 29226 | F28: 180 | I28: TEAMJBAにおいて、競技者登録を「チーム旭川」以外で登録している場合に、そのチーム名を記入してください。
A29: 11 | B29: ジョン・スミス | C29: ジョン・スミス | D29: 000000000 | E29: 29227 | F29: 180 | G29: 北海道○○クラブ | I29: 「チーム旭川」の場合は記入不要です。
A30: 13 | B30: 当麻 太郎 | C30: トウマ タロウ | D30: 000000000 | E30: 29228 | F30: 180
A31: 23 | B31: 永山 五郎 | C31: ナガヤマ ゴロウ | D31: 000000000 | E31: 29229 | F31: 180
A32: 34 | B32: 神居 六郎 | C32: カムイ ロクロウ | D32: 000000000 | E32: 29230 | F32: 180
A33: 45 | B33: 比布 一五郎 | C33: ピップ イチゴロウ | D33: 000000000 | E33: 29231 | F33: 180
A34: 51 | B34: 花咲 一朗 | C34: ハナサキ イチロー | D34: 000000000 | E34: 29232 | F34: 180
A35: 77 | B35: 鷹栖 七郎 | C35: タカス シチロウ | D35: 000000000 | E35: 29233 | F35: 180
A36: 88 | B36: 上富良野 八郎 | C36: カミフラノ ハチロウ | D36: 000000000 | E36: 29234 | F36: 180
A37: 99 | B37: 南富良野 九郎 | C37: ミナミフラノ クロウ | D37: 000000000 | E37: 29235 | F37: 180

Sheet このシートは変更しないでください
A1: チーム名 | B1: クラス | C1: 大分類 | D1: 小分類 | E1: 氏名 | F1: フリガナ | G1: 背番号 | H1: メンバーID | I1: ライセンス | J1: 電話番号 | K1: 生年月日 | L1: 身長 | M1: TEAMJBA登録チーム
A2: ='登録ﾁｰﾑ'!$B$3 | B2: ='登録ﾁｰﾑ'!$G$3 -> エンジョイ | C2: スタッフ | D2: ヘッドコーチ | E2: ='登録ﾁｰﾑ'!B10 | F2: ='登録ﾁｰﾑ'!C10 | H2: ='登録ﾁｰﾑ'!D10 | I2: ='登録ﾁｰﾑ'!E10
A3: ='登録ﾁｰﾑ'!$B$3 | B3: ='登録ﾁｰﾑ'!$G$3 -> エンジョイ | C3: スタッフ | D3: アシスタントコーチ1 | E3: ='登録ﾁｰﾑ'!B11 | F3: ='登録ﾁｰﾑ'!C11 | H3: ='登録ﾁｰﾑ'!D11 | I3: ='登録ﾁｰﾑ'!E11
A4: ='登録ﾁｰﾑ'!$B$3 | B4: ='登録ﾁｰﾑ'!$G$3 -> エンジョイ | C4: スタッフ | D4: アシスタントコーチ2 | E4: ='登録ﾁｰﾑ'!B12 | F4: ='登録ﾁｰﾑ'!C12 | H4: ='登録ﾁｰﾑ'!D12 | I4: ='登録ﾁｰﾑ'!E12
A5: ='登録ﾁｰﾑ'!$B$3 | B5: ='登録ﾁｰﾑ'!$G$3 -> エンジョイ | C5: スタッフ | D5: マネージャー | E5: ='登録ﾁｰﾑ'!B13 | F5: ='登録ﾁｰﾑ'!C13 | H5: ='登録ﾁｰﾑ'!D13 | I5: ='登録ﾁｰﾑ'!E13
A6: ='登録ﾁｰﾑ'!$B$3 | B6: ='登録ﾁｰﾑ'!$G$3 -> エンジョイ | C6: 帯同審判 | D6: 帯同審判1 | E6: ='登録ﾁｰﾑ'!B16 | F6: ='登録ﾁｰﾑ'!C16 | H6: ='登録ﾁｰﾑ'!D16 | I6: ='登録ﾁｰﾑ'!E16 | J6: ='登録ﾁｰﾑ'!F16
A7: ='登録ﾁｰﾑ'!$B$3 | B7: ='登録ﾁｰﾑ'!$G$3 -> エンジョイ | C7: 帯同審判 | D7: 帯同審判2 | E7: ='登録ﾁｰﾑ'!B17 | F7: ='登録ﾁｰﾑ'!C17 | H7: ='登録ﾁｰﾑ'!D17 | I7: ='登録ﾁｰﾑ'!E17 | J7: ='登録ﾁｰﾑ'!F17
A8: ='登録ﾁｰﾑ'!$B$3 | B8: ='登録ﾁｰﾑ'!$G$3 -> エンジョイ | C8: 帯同審判 | D8: 帯同審判3 | E8: ='登録ﾁｰﾑ'!B18 | F8: ='登録ﾁｰﾑ'!C18 | H8: ='登録ﾁｰﾑ'!D18 | I8: ='登録ﾁｰﾑ'!E18 | J8: ='登録ﾁｰﾑ'!F18
A9: ='登録ﾁｰﾑ'!$B$3 | B9: ='登録ﾁｰﾑ'!$G$3 -> エンジョイ | C9: 帯同審判 | D9: 帯同審判4 | E9: ='登録ﾁｰﾑ'!B19 | F9: ='登録ﾁｰﾑ'!C19 | H9: ='登録ﾁｰﾑ'!D19 | I9: ='登録ﾁｰﾑ'!E19 | J9: ='登録ﾁｰﾑ'!F19
A10: ='登録ﾁｰﾑ'!$B$3 | B10: ='登録ﾁｰﾑ'!$G$3 -> エンジョイ | C10: 帯同審判 | D10: 帯同審判5 | E10: ='登録ﾁｰﾑ'!B20 | F10: ='登録ﾁｰﾑ'!C20 | H10: ='登録ﾁｰﾑ'!D20 | I10: ='登録ﾁｰﾑ'!E20 | J10: ='登録ﾁｰﾑ'!F20
A11: ='登録ﾁｰﾑ'!$B$3 | B11: ='登録ﾁｰﾑ'!$G$3 -> エンジョイ | C11: プレーヤー | D11: プレーヤー1 | E11: ='登録ﾁｰﾑ'!B23 | F11: ='登録ﾁｰﾑ'!C23 | G11: ='登録ﾁｰﾑ'!A23 | H11: ='登録ﾁｰﾑ'!D23 | K11: ='登録ﾁｰﾑ'!E23 | L11: ='登録ﾁｰﾑ'!F23 | M11: ='登録ﾁｰﾑ'!G23
A12: ='登録ﾁｰﾑ'!$B$3 | B12: ='登録ﾁｰﾑ'!$G$3 -> エンジョイ | C12: プレーヤー | D12: プレーヤー2 | E12: ='登録ﾁｰﾑ'!B24 | F12: ='登録ﾁｰﾑ'!C24 | G12: ='登録ﾁｰﾑ'!A24 | H12: ='登録ﾁｰﾑ'!D24 | K12: ='登録ﾁｰﾑ'!E24 | L12: ='登録ﾁｰﾑ'!F24 | M12: ='登録ﾁｰﾑ'!G24
A13: ='登録ﾁｰﾑ'!$B$3 | B13: ='登録ﾁｰﾑ'!$G$3 -> エンジョイ | C13: プレーヤー | D13: プレーヤー3 | E13: ='登録ﾁｰﾑ'!B25 | F13: ='登録ﾁｰﾑ'!C25 | G13: ='登録ﾁｰﾑ'!A25 | H13: ='登録ﾁｰﾑ'!D25 | K13: ='登録ﾁｰﾑ'!E25 | L13: ='登録ﾁｰﾑ'!F25 | M13: ='登録ﾁｰﾑ'!G25
A14: ='登録ﾁｰﾑ'!$B$3 | B14: ='登録ﾁｰﾑ'!$G$3 -> エンジョイ | C14: プレーヤー | D14: プレーヤー4 | E14: ='登録ﾁｰﾑ'!B26 | F14: ='登録ﾁｰﾑ'!C26 | G14: ='登録ﾁｰﾑ'!A26 | H14: ='登録ﾁｰﾑ'!D26 | K14: ='登録ﾁｰﾑ'!E26 | L14: ='登録ﾁｰﾑ'!F26 | M14: ='登録ﾁｰﾑ'!G26
A15: ='登録ﾁｰﾑ'!$B$3 | B15: ='登録ﾁｰﾑ'!$G$3 -> エンジョイ | C15: プレーヤー | D15: プレーヤー5 | E15: ='登録ﾁｰﾑ'!B27 | F15: ='登録ﾁｰﾑ'!C27 | G15: ='登録ﾁｰﾑ'!A27 | H15: ='登録ﾁｰﾑ'!D27 | K15: ='登録ﾁｰﾑ'!E27 | L15: ='登録ﾁｰﾑ'!F27 | M15: ='登録ﾁｰﾑ'!G27
A16: ='登録ﾁｰﾑ'!$B$3 | B16: ='登録ﾁｰﾑ'!$G$3 -> エンジョイ | C16: プレーヤー | D16: プレーヤー6 | E16: ='登録ﾁｰﾑ'!B28 | F16: ='登録ﾁｰﾑ'!C28 | G16: ='登録ﾁｰﾑ'!A28 | H16: ='登録ﾁｰﾑ'!D28 | K16: ='登録ﾁｰﾑ'!E28 | L16: ='登録ﾁｰﾑ'!F28 | M16: ='登録ﾁｰﾑ'!G28
A17: ='登録ﾁｰﾑ'!$B$3 | B17: ='登録ﾁｰﾑ'!$G$3 -> エンジョイ | C17: プレーヤー | D17: プレーヤー7 | E17: ='登録ﾁｰﾑ'!B29 | F17: ='登録ﾁｰﾑ'!C29 | G17: ='登録ﾁｰﾑ'!A29 | H17: ='登録ﾁｰﾑ'!D29 | K17: ='登録ﾁｰﾑ'!E29 | L17: ='登録ﾁｰﾑ'!F29 | M17: ='登録ﾁｰﾑ'!G29
A18: ='登録ﾁｰﾑ'!$B$3 | B18: ='登録ﾁｰﾑ'!$G$3 -> エンジョイ | C18: プレーヤー | D18: プレーヤー8 | E18: ='登録ﾁｰﾑ'!B30 | F18: ='登録ﾁｰﾑ'!C30 | G18: ='登録ﾁｰﾑ'!A30 | H18: ='登録ﾁｰﾑ'!D30 | K18: ='登録ﾁｰﾑ'!E30 | L18: ='登録ﾁｰﾑ'!F30 | M18: ='登録ﾁｰﾑ'!G30
A19: ='登録ﾁｰﾑ'!$B$3 | B19: ='登録ﾁｰﾑ'!$G$3 -> エンジョイ | C19: プレーヤー | D19: プレーヤー9 | E19: ='登録ﾁｰﾑ'!B31 | F19: ='登録ﾁｰﾑ'!C31 | G19: ='登録ﾁｰﾑ'!A31 | H19: ='登録ﾁｰﾑ'!D31 | K19: ='登録ﾁｰﾑ'!E31 | L19: ='登録ﾁｰﾑ'!F31 | M19: ='登録ﾁｰﾑ'!G31
A20: ='登録ﾁｰﾑ'!$B$3 | B20: ='登録ﾁｰﾑ'!$G$3 -> エンジョイ | C20: プレーヤー | D20: プレーヤー10 | E20: ='登録ﾁｰﾑ'!B32 | F20: ='登録ﾁｰﾑ'!C32 | G20: ='登録ﾁｰﾑ'!A32 | H20: ='登録ﾁｰﾑ'!D32 | K20: ='登録ﾁｰﾑ'!E32 | L20: ='登録ﾁｰﾑ'!F32 | M20: ='登録ﾁｰﾑ'!G32
A21: ='登録ﾁｰﾑ'!$B$3 | B21: ='登録ﾁｰﾑ'!$G$3 -> エンジョイ | C21: プレーヤー | D21: プレーヤー11 | E21: ='登録ﾁｰﾑ'!B33 | F21: ='登録ﾁｰﾑ'!C33 | G21: ='登録ﾁｰﾑ'!A33 | H21: ='登録ﾁｰﾑ'!D33 | K21: ='登録ﾁｰﾑ'!E33 | L21: ='登録ﾁｰﾑ'!F33 | M21: ='登録ﾁｰﾑ'!G33
A22: ='登録ﾁｰﾑ'!$B$3 | B22: ='登録ﾁｰﾑ'!$G$3 -> エンジョイ | C22: プレーヤー | D22: プレーヤー12 | E22: ='登録ﾁｰﾑ'!B34 | F22: ='登録ﾁｰﾑ'!C34 | G22: ='登録ﾁｰﾑ'!A34 | H22: ='登録ﾁｰﾑ'!D34 | K22: ='登録ﾁｰﾑ'!E34 | L22: ='登録ﾁｰﾑ'!F34 | M22: ='登録ﾁｰﾑ'!G34
... A66: ='登録ﾁｰﾑ'!$B$3 | B66: ='登録ﾁｰﾑ'!$G$3 -> エンジョイ | C66: プレーヤー | D66: プレーヤー56 | E66: ='登録ﾁｰﾑ'!B78 | F66: ='登録ﾁｰﾑ'!C78 | G66: ='登録ﾁｰﾑ'!A78 | H66: ='登録ﾁｰﾑ'!D78 | K66: ='登録ﾁｰﾑ'!E78 | L66: ='登録ﾁｰﾑ'!F78 | M66: ='登録ﾁｰﾑ'!G78
